BEGIN:VCALENDAR
VERSION:2.0
PRODID:-//PATU | Pan American Taekwondo Union - ECPv6.15.13.1//NONSGML v1.0//EN
CALSCALE:GREGORIAN
METHOD:PUBLISH
X-WR-CALNAME:PATU | Pan American Taekwondo Union
X-ORIGINAL-URL:https://www.patutkd.org
X-WR-CALDESC:Eventos para PATU | Pan American Taekwondo Union
REFRESH-INTERVAL;VALUE=DURATION:PT1H
X-Robots-Tag:noindex
X-PUBLISHED-TTL:PT1H
BEGIN:VTIMEZONE
TZID:UTC
BEGIN:STANDARD
TZOFFSETFROM:+0000
TZOFFSETTO:+0000
TZNAME:UTC
DTSTART:20210101T000000
END:STANDARD
END:VTIMEZONE
BEGIN:VEVENT
DTSTART;VALUE=DATE:20220922
DTEND;VALUE=DATE:20221002
DTSTAMP:20260425T164446
CREATED:20220101T011353Z
LAST-MODIFIED:20221005T172412Z
UID:8651-1663804800-1664668799@www.patutkd.org
SUMMARY:Campamento de Entrenamiento PanAm Sports
DESCRIPTION:Host Country: México\nCity: Ciudad de México
URL:https://www.patutkd.org/event/campamento-de-entrenamiento-panam-sports/
CATEGORIES:Kyorugui
END:VEVENT
BEGIN:VEVENT
DTSTART;VALUE=DATE:20220923
DTEND;VALUE=DATE:20220926
DTSTAMP:20260425T164446
CREATED:20220118T192742Z
LAST-MODIFIED:20220925T195312Z
UID:6957-1663891200-1664150399@www.patutkd.org
SUMMARY:Chile Open (Kyorugi)
DESCRIPTION:Host Country: Chile\nCity: Santiago de Chile\nRegion: South A.\n\n \nD1 Chile Open G2 2022 \nD2 Chile Open G2 2022 \nRandom weighing (D2 CHILE OPEN) \nP14 MEDALLIST BY WEIGHT CATEGORY (D1 Chile OPEN 2022) \nBEST KYORUGI CHILE OPEN 2022 \nMedal Standings (PREMIACION POR EQUIPOS) \nP14 MEDALLIST BY WEIGHT CATEGORY (9)
URL:https://www.patutkd.org/event/chile-open-2/
CATEGORIES:Kyorugui
ATTACH;FMTTYPE=image/png:https://www.patutkd.org/wp-content/uploads/2022/01/patu-web_Mesa-de-trabajo-1-1.png
END:VEVENT
END:VCALENDAR