BEGIN:VCALENDAR
VERSION:2.0
PRODID:-//PATU | Pan American Taekwondo Union - ECPv6.15.13.1//NONSGML v1.0//EN
CALSCALE:GREGORIAN
METHOD:PUBLISH
X-ORIGINAL-URL:https://www.patutkd.org
X-WR-CALDESC:Eventos para PATU | Pan American Taekwondo Union
REFRESH-INTERVAL;VALUE=DURATION:PT1H
X-Robots-Tag:noindex
X-PUBLISHED-TTL:PT1H
BEGIN:VTIMEZONE
TZID:UTC
BEGIN:STANDARD
TZOFFSETFROM:+0000
TZOFFSETTO:+0000
TZNAME:UTC
DTSTART:20210101T000000
END:STANDARD
END:VTIMEZONE
BEGIN:VEVENT
DTSTART;VALUE=DATE:20220702
DTEND;VALUE=DATE:20220706
DTSTAMP:20260421T224225
CREATED:20220102T010402Z
LAST-MODIFIED:20220908T155341Z
UID:8296-1656720000-1657065599@www.patutkd.org
SUMMARY:Juegos Bolivarianos (Kyorugi)
DESCRIPTION:Host Country: Colombia\nCity: Valledupar\nRegion: South A\n\n \n \n Day1 BGames Kyorugi Brackets \nD2 XIX Juegos Bolivarianos VALLEDUPAR 2022 \nRandom weighing day 1 \nDay 2 Session Schedule – Kyorugi \nRandom weighing day 2
URL:https://www.patutkd.org/event/juegos-bolivarianos-kyorugi/
CATEGORIES:Kyorugui
ATTACH;FMTTYPE=image/png:https://www.patutkd.org/wp-content/uploads/2022/01/patu-web_Mesa-de-trabajo-1-1.png
END:VEVENT
END:VCALENDAR