BEGIN:VCALENDAR
VERSION:2.0
PRODID:-//PATU | Pan American Taekwondo Union - ECPv6.15.13.1//NONSGML v1.0//EN
CALSCALE:GREGORIAN
METHOD:PUBLISH
X-WR-CALNAME:PATU | Pan American Taekwondo Union
X-ORIGINAL-URL:https://www.patutkd.org
X-WR-CALDESC:Eventos para PATU | Pan American Taekwondo Union
REFRESH-INTERVAL;VALUE=DURATION:PT1H
X-Robots-Tag:noindex
X-PUBLISHED-TTL:PT1H
BEGIN:VTIMEZONE
TZID:UTC
BEGIN:STANDARD
TZOFFSETFROM:+0000
TZOFFSETTO:+0000
TZNAME:UTC
DTSTART:20210101T000000
END:STANDARD
END:VTIMEZONE
BEGIN:VEVENT
DTSTART;VALUE=DATE:20220602
DTEND;VALUE=DATE:20220606
DTSTAMP:20260420T235518
CREATED:20220120T003222Z
LAST-MODIFIED:20220704T152333Z
UID:6865-1654128000-1654473599@www.patutkd.org
SUMMARY:Havana Open (Kyorugi)
DESCRIPTION:Host Country: Cuba\nCity: Havana  \nRegion: Caribbean\n\n \n \nAbierto La Habana 2022 – Senior \nAbierto de La Habana 2022\, Cadete & Junior \nDraw resultd cuba senior \nP14 MEDALLIST BY WEIGHT CATEGORY-1 \nP14 MEDALLIST BY WEIGHT CATEGORY-2 \nHabana cadete & junior \n 
URL:https://www.patutkd.org/event/havana-open/
CATEGORIES:Kyorugui
ATTACH;FMTTYPE=image/png:https://www.patutkd.org/wp-content/uploads/2022/01/patu-web_Mesa-de-trabajo-1-1.png
END:VEVENT
END:VCALENDAR