BEGIN:VCALENDAR
VERSION:2.0
PRODID:-//PATU | Pan American Taekwondo Union - ECPv6.15.13.1//NONSGML v1.0//EN
CALSCALE:GREGORIAN
METHOD:PUBLISH
X-WR-CALNAME:PATU | Pan American Taekwondo Union
X-ORIGINAL-URL:https://www.patutkd.org
X-WR-CALDESC:Eventos para PATU | Pan American Taekwondo Union
REFRESH-INTERVAL;VALUE=DURATION:PT1H
X-Robots-Tag:noindex
X-PUBLISHED-TTL:PT1H
BEGIN:VTIMEZONE
TZID:UTC
BEGIN:STANDARD
TZOFFSETFROM:+0000
TZOFFSETTO:+0000
TZNAME:UTC
DTSTART:20210101T000000
END:STANDARD
END:VTIMEZONE
BEGIN:VEVENT
DTSTART;VALUE=DATE:20220528
DTEND;VALUE=DATE:20220531
DTSTAMP:20260421T050327
CREATED:20220101T231605Z
LAST-MODIFIED:20220704T152506Z
UID:6863-1653696000-1653955199@www.patutkd.org
SUMMARY:Pan Am Series I (Kyorugi)
DESCRIPTION:Host Country: USA\nCity: Fort Worth  \nRegion: North A\n\n \n \nReport Times – SUN 29 MAY \nP11 – Competition Draw Sheet Day 2 \nP11 – Competition Draw Sheet With Results Day 2 \nP14 – Medallists by weight category Day 2 \nP11 – Competition Draw Sheet With Results Day 2 \nReport Times – MON 30 MAY \nRandom Weigh-In – MON 30 MAY 2022 \nP14 – Medallists by weight category MEN \nP14 – Medallists by weight category WOMEN \nP11 – Competition Draw Sheet With Results Day 3
URL:https://www.patutkd.org/event/pan-am-series-i/
CATEGORIES:Kyorugui
ATTACH;FMTTYPE=image/png:https://www.patutkd.org/wp-content/uploads/2022/01/patu-web_Mesa-de-trabajo-1-1.png
END:VEVENT
END:VCALENDAR